BEGIN:VCALENDAR
VERSION:2.0
PRODID:-//Squarespace Inc/Squarespace 6//v6//EN
BEGIN:VEVENT
UID:5e27cd685fc642666c79faff@squarespace.com
DTSTAMP:20200122T043048Z
DTSTART:20200503T003000Z
DTEND:20200503T063000Z
SUMMARY:Imagine the Past History Month Event
END:VEVENT
END:VCALENDAR
