BEGIN:VCALENDAR
VERSION:2.0
PRODID:-//Squarespace Inc/Squarespace 6//v6//EN
BEGIN:VEVENT
UID:5e5870201992186a696d0089@squarespace.com
DTSTAMP:20200228T015600Z
DTSTART:20200313T053000Z
DTEND:20200313T083000Z
SUMMARY:“Hahndorf’s Hidden Histories” Community Project
END:VEVENT
END:VCALENDAR
