BEGIN:VCALENDAR
VERSION:2.0
PRODID:-//Squarespace Inc/Squarespace 6//v6//EN
BEGIN:VEVENT
UID:5e1c0eafa252892821e571a6@squarespace.com
DTSTAMP:20200113T075247Z
DTSTART:20200205T073000Z
DTEND:20200205T083000Z
SUMMARY:YOGA BEGINNERS CLASS- 6 WEEKS
END:VEVENT
END:VCALENDAR
