BEGIN:VCALENDAR
VERSION:2.0
PRODID:-//Squarespace Inc/Squarespace 6//v6//EN
BEGIN:VEVENT
UID:5e1c0d5fa252892821e55778@squarespace.com
DTSTAMP:20200122T041932Z
DTSTART:20200227T073000Z
DTEND:20200227T083000Z
SUMMARY:Artist talk with India Flint
END:VEVENT
END:VCALENDAR
