BEGIN:VCALENDAR
VERSION:2.0
PRODID:-//Squarespace Inc/Squarespace 6//v6//EN
BEGIN:VEVENT
UID:5e27c7616bb33b2a4ebd30e6@squarespace.com
DTSTAMP:20200122T035913Z
DTSTART:20200202T043000Z
DTEND:20200202T053000Z
SUMMARY:ARTIST TALK with the Artist's Voice
END:VEVENT
END:VCALENDAR
