BEGIN:VCALENDAR
VERSION:2.0
PRODID:-//Squarespace Inc/Squarespace 6//v6//EN
BEGIN:VEVENT
UID:5d54bb04d411e100018b02cd@squarespace.com
DTSTAMP:20190815T015532Z
DTSTART:20190817T063000Z
DTEND:20190817T073000Z
SUMMARY:Artist talk with Rachel Harris
END:VEVENT
END:VCALENDAR
