BEGIN:VCALENDAR
VERSION:2.0
PRODID:-//Squarespace Inc/Squarespace 6//v6//EN
BEGIN:VEVENT
UID:5ceb5bb915fcc0da64926f8e@squarespace.com
DTSTAMP:20190527T040106Z
DTSTART:20190616T013000Z
DTEND:20190616T023000Z
SUMMARY:Artist Talk with Gerry Wedd
END:VEVENT
END:VCALENDAR
