BEGIN:VCALENDAR
VERSION:2.0
PRODID:-//Squarespace Inc/Squarespace 6//v6//EN
BEGIN:VEVENT
UID:5c610f36eb39311832fffd45@squarespace.com
DTSTAMP:20190211T060804Z
DTSTART:20190505T003000Z
DTEND:20190505T063000Z
SUMMARY:Imagine the Past: History Month Event
END:VEVENT
END:VCALENDAR
