BEGIN:VCALENDAR
VERSION:2.0
PRODID:-//Squarespace Inc/Squarespace 6//v6//EN
BEGIN:VEVENT
UID:5dd4a1f1cb893b61e3f9870d@squarespace.com
DTSTAMP:20200212T065911Z
DTSTART:20191222T043000Z
DTEND:20191222T053000Z
SUMMARY:William Jack Cello performance
END:VEVENT
END:VCALENDAR
