BEGIN:VCALENDAR
VERSION:2.0
PRODID:-//Squarespace Inc/Squarespace 6//v6//EN
BEGIN:VEVENT
UID:5e43a23f7561ee10219d43d7@squarespace.com
DTSTAMP:20200220T021747Z
DTSTART:20200329T043000Z
DTEND:20200329T053000Z
SUMMARY:William Jack Cello Recital
END:VEVENT
END:VCALENDAR
