BEGIN:VCALENDAR
VERSION:2.0
PRODID:-//Squarespace Inc/Squarespace 6//v6//EN
BEGIN:VEVENT
UID:5c47cf5042bfc145251f5340@squarespace.com
DTSTAMP:20190211T053059Z
DTSTART:20190216T230000Z
DTEND:20190217T000000Z
SUMMARY:YOGA in the Art Gallery
END:VEVENT
END:VCALENDAR
