BEGIN:VCALENDAR
VERSION:2.0
PRODID:-//Squarespace Inc/Squarespace 6//v6//EN
BEGIN:VEVENT
UID:5ab47aa62b6a289b6718888a@squarespace.com
DTSTAMP:20180323T054621Z
DTSTART:20180506T003000Z
DTEND:20180506T053000Z
SUMMARY:'Imagine The Past' History Event 
END:VEVENT
END:VCALENDAR
