BEGIN:VCALENDAR
VERSION:2.0
PRODID:-//Squarespace Inc/Squarespace 6//v6//EN
BEGIN:VEVENT
UID:5b04e2cb70a6adb9250b9760@squarespace.com
DTSTAMP:20180523T034716Z
DTSTART:20180527T053000Z
DTEND:20180527T070000Z
SUMMARY:Artist Talk-Make History Exhibition 
END:VEVENT
END:VCALENDAR
