BEGIN:VCALENDAR
VERSION:2.0
PRODID:-//Squarespace Inc/Squarespace 6//v6//EN
BEGIN:VEVENT
UID:5b024ed5758d46bedb20b26f@squarespace.com
DTSTAMP:20180521T051109Z
DTSTART:20180524T083000Z
DTEND:20180524T100000Z
SUMMARY:Jane James Talk 'From Pussia with Love'
END:VEVENT
END:VCALENDAR
