BEGIN:VCALENDAR
VERSION:2.0
PRODID:-//Squarespace Inc/Squarespace 6//v6//EN
BEGIN:VEVENT
UID:5acc143588251b5348942c65@squarespace.com
DTSTAMP:20180410T014642Z
DTSTART:20180519T223000Z
DTEND:20180520T053000Z
SUMMARY:Pioneer Women's Trail Walk
END:VEVENT
END:VCALENDAR
