BEGIN:VCALENDAR
VERSION:2.0
PRODID:-//Squarespace Inc/Squarespace 6//v6//EN
BEGIN:VEVENT
UID:5ac70cd4f950b7346fc13715@squarespace.com
DTSTAMP:20180410T014918Z
DTSTART:20180414T003000Z
DTEND:20180513T073000Z
SUMMARY:Artist in Residence Karol Oakley
END:VEVENT
END:VCALENDAR
