BEGIN:VCALENDAR
VERSION:2.0
PRODID:-//Squarespace Inc/Squarespace 6//v6//EN
BEGIN:VEVENT
UID:5a7bcdf1c830257a7b0c760f@squarespace.com
DTSTAMP:20180208T041406Z
DTSTART:20180211T003000Z
DTEND:20180211T043000Z
SUMMARY:Meet the Artist - Roe Gartelmann
END:VEVENT
END:VCALENDAR
