BEGIN:VCALENDAR
VERSION:2.0
PRODID:-//Squarespace Inc/Squarespace 6//v6//EN
BEGIN:VEVENT
UID:5bce8b6c104c7b508aad6c94@squarespace.com
DTSTAMP:20181024T005722Z
DTSTART:20181124T033000Z
DTEND:20181124T053000Z
SUMMARY: Heysen Prize for Landscape Artist Talks
END:VEVENT
END:VCALENDAR
