BEGIN:VCALENDAR
VERSION:2.0
PRODID:-//Squarespace Inc/Squarespace 6//v6//EN
BEGIN:VEVENT
UID:590ab090d482e9dd78a004d8@squarespace.com
DTSTAMP:20180508T024049Z
DTSTART:20170826T053000Z
DTEND:20170826T103000Z
SUMMARY:Winter Lantern Festival 2017
END:VEVENT
END:VCALENDAR
