BEGIN:VCALENDAR
VERSION:2.0
PRODID:-//Squarespace Inc/Squarespace 6//v6//EN
BEGIN:VEVENT
UID:5af10e31aa4a999644ac05a8@squarespace.com
DTSTAMP:20180727T015325Z
DTSTART:20180824T093000Z
DTEND:20180825T110000Z
SUMMARY:Hahndorf Winter Lantern Festival 2018
END:VEVENT
END:VCALENDAR
