BEGIN:VCALENDAR
VERSION:2.0
PRODID:-//Squarespace Inc/Squarespace 6//v6//EN
BEGIN:VEVENT
UID:590ab023e4fcb5f1d7bacd7d@squarespace.com
DTSTAMP:20170504T052602Z
DTSTART:20170521T053000Z
DTEND:20170521T070000Z
SUMMARY:Artist Talk with Silvia Stansfield
END:VEVENT
END:VCALENDAR
