BEGIN:VCALENDAR
VERSION:2.0
PRODID:-//Squarespace Inc/Squarespace 6//v6//EN
BEGIN:VEVENT
UID:590ab83ea5790a517c925b6d@squarespace.com
DTSTAMP:20170504T052647Z
DTSTART:20170521T013000Z
DTEND:20170521T063000Z
SUMMARY:Imagine the Past
END:VEVENT
END:VCALENDAR
