BEGIN:VCALENDAR
VERSION:2.0
PRODID:-//Squarespace Inc/Squarespace 6//v6//EN
BEGIN:VEVENT
UID:579811efe3df28dfd6e9da50@squarespace.com
DTSTAMP:20160727T015926Z
DTSTART:20160813T053000Z
DTEND:20160813T103000Z
SUMMARY:Winter Lantern Festival
END:VEVENT
END:VCALENDAR
