BEGIN:VCALENDAR
VERSION:2.0
PRODID:-//Squarespace Inc/Squarespace 6//v6//EN
BEGIN:VEVENT
UID:5e54b9f5b61b1e513a19b1d9@squarespace.com
DTSTAMP:20200225T061810Z
DTSTART:20200321T003000Z
DTEND:20200321T050000Z
SUMMARY:Workshop with Anna Glynn
END:VEVENT
END:VCALENDAR
