BEGIN:VCALENDAR
VERSION:2.0
PRODID:-//Squarespace Inc/Squarespace 6//v6//EN
BEGIN:VEVENT
UID:5e1c13b03a904b6e1b65cda4@squarespace.com
DTSTAMP:20200113T075210Z
DTSTART:20200205T073000Z
DTEND:20200205T083000Z
SUMMARY:YOGA FOR BEGINNERS - 6 WEEK CLASSES
END:VEVENT
END:VCALENDAR
