BEGIN:VCALENDAR
VERSION:2.0
PRODID:-//Squarespace Inc/Squarespace 6//v6//EN
BEGIN:VEVENT
UID:5e325b4658164e71d26f1901@squarespace.com
DTSTAMP:20200130T044748Z
DTSTART:20200215T003000Z
DTEND:20200215T023000Z
SUMMARY:Love Your Face! DIY workshop
END:VEVENT
END:VCALENDAR
