BEGIN:VCALENDAR
VERSION:2.0
PRODID:-//Squarespace Inc/Squarespace 6//v6//EN
BEGIN:VEVENT
UID:5d26ee0bf297520001cfa764@squarespace.com
DTSTAMP:20190711T081442Z
DTSTART:20190817T003000Z
DTEND:20190817T023000Z
SUMMARY:session 1 'Making machines that make art!’ kids workshop with James 
 Dodd
END:VEVENT
END:VCALENDAR
