BEGIN:VCALENDAR
VERSION:2.0
PRODID:-//Squarespace Inc/Squarespace 6//v6//EN
BEGIN:VEVENT
UID:5d26eef76a1fbd0001827625@squarespace.com
DTSTAMP:20190711T082619Z
DTSTART:20190817T033000Z
DTEND:20190817T053000Z
SUMMARY:session 2  'Making machines that make art!’ kids workshop with Jame
 s Dodd
END:VEVENT
END:VCALENDAR
