BEGIN:VCALENDAR
VERSION:2.0
PRODID:-//Squarespace Inc/Squarespace 6//v6//EN
BEGIN:VEVENT
UID:5d1af4f95758020001325af0@squarespace.com
DTSTAMP:20190702T062021Z
DTSTART:20190709T003000Z
DTEND:20190709T021500Z
SUMMARY:Bath Bomb&nbsp\;+ Bath Salts Mania: Kids workshop
END:VEVENT
END:VCALENDAR
