BEGIN:VCALENDAR
VERSION:2.0
PRODID:-//Squarespace Inc/Squarespace 6//v6//EN
BEGIN:VEVENT
UID:5d1af7a5b9d2540001700de7@squarespace.com
DTSTAMP:20190711T081923Z
DTSTART:20190716T003000Z
DTEND:20190716T021500Z
SUMMARY:Bath Bomb&nbsp\;+ Bath Salts Mania: Kids workshop
END:VEVENT
END:VCALENDAR
