BEGIN:VCALENDAR
VERSION:2.0
PRODID:-//Squarespace Inc/Squarespace 6//v6//EN
BEGIN:VEVENT
UID:5cf8903ebcf60a0001ac6f59@squarespace.com
DTSTAMP:20190731T053927Z
DTSTART:20190921T033000Z
DTEND:20190921T053000Z
SUMMARY:Blend your own tea
END:VEVENT
END:VCALENDAR
