BEGIN:VCALENDAR
VERSION:2.0
PRODID:-//Squarespace Inc/Squarespace 6//v6//EN
BEGIN:VEVENT
UID:5cf9facec8b0430001287455@squarespace.com
DTSTAMP:20190607T074544Z
DTSTART:20190616T010000Z
DTEND:20190616T030000Z
SUMMARY:SERENE SOCIAL | facial + meditation workshop
END:VEVENT
END:VCALENDAR
