BEGIN:VCALENDAR
VERSION:2.0
PRODID:-//Squarespace Inc/Squarespace 6//v6//EN
BEGIN:VEVENT
UID:5ceb5958e4966b600dd22797@squarespace.com
DTSTAMP:20190527T033349Z
DTSTART:20190616T023000Z
DTEND:20190616T073000Z
SUMMARY:GERRY WEDD WORKSHOP
END:VEVENT
END:VCALENDAR
