BEGIN:VCALENDAR
VERSION:2.0
PRODID:-//Squarespace Inc/Squarespace 6//v6//EN
BEGIN:VEVENT
UID:5c8b397f6e9a7f1b0aa48977@squarespace.com
DTSTAMP:20190315T055126Z
DTSTART:20190405T233000Z
DTEND:20190406T050000Z
SUMMARY:Pastel Workshop with Roe Gartelmann
END:VEVENT
END:VCALENDAR
