BEGIN:VCALENDAR
VERSION:2.0
PRODID:-//Squarespace Inc/Squarespace 6//v6//EN
BEGIN:VEVENT
UID:5ca2f88eeef1a1891ef982bc@squarespace.com
DTSTAMP:20190402T055629Z
DTSTART:20190424T053000Z
DTEND:20190424T073000Z
SUMMARY:EASTER SCHOOL HOLIDAY WORKSHOP
END:VEVENT
END:VCALENDAR
