BEGIN:VCALENDAR
VERSION:2.0
PRODID:-//Squarespace Inc/Squarespace 6//v6//EN
BEGIN:VEVENT
UID:5ca2f79c08522987765a6281@squarespace.com
DTSTAMP:20190402T055200Z
DTSTART:20190418T053000Z
DTEND:20190418T070000Z
SUMMARY:EASTER SCHOOL HOLIDAY WORKSHOP
END:VEVENT
END:VCALENDAR
