BEGIN:VCALENDAR
VERSION:2.0
PRODID:-//Squarespace Inc/Squarespace 6//v6//EN
BEGIN:VEVENT
UID:5c9c1f5cc83025b6d10478ff@squarespace.com
DTSTAMP:20190403T013855Z
DTSTART:20190414T010000Z
DTEND:20190414T030000Z
SUMMARY:Beeswax Wrap Workshop 
END:VEVENT
END:VCALENDAR
