BEGIN:VCALENDAR
VERSION:2.0
PRODID:-//Squarespace Inc/Squarespace 6//v6//EN
BEGIN:VEVENT
UID:5c8b3a438165f55d4bedc59a@squarespace.com
DTSTAMP:20190315T055238Z
DTSTART:20190413T003000Z
DTEND:20190413T060000Z
SUMMARY:Watercolour Workshop with Roe Gartelmann &nbsp\; &nbsp\;
END:VEVENT
END:VCALENDAR
