BEGIN:VCALENDAR
VERSION:2.0
PRODID:-//Squarespace Inc/Squarespace 6//v6//EN
BEGIN:VEVENT
UID:5c5d0bf90852294ff2fffcff@squarespace.com
DTSTAMP:20190211T040640Z
DTSTART:20190330T000000Z
DTEND:20190330T013000Z
SUMMARY:Magnificent Mixed Up Marsupials
END:VEVENT
END:VCALENDAR
