BEGIN:VCALENDAR
VERSION:2.0
PRODID:-//Squarespace Inc/Squarespace 6//v6//EN
BEGIN:VEVENT
UID:5c5d0dfe104c7b465a60d90f@squarespace.com
DTSTAMP:20190315T055706Z
DTSTART:20190406T000000Z
DTEND:20190406T013000Z
SUMMARY:Pets and Poems
END:VEVENT
END:VCALENDAR
