BEGIN:VCALENDAR
VERSION:2.0
PRODID:-//Squarespace Inc/Squarespace 6//v6//EN
BEGIN:VEVENT
UID:5c5d1127f9619a7d828e1a4c@squarespace.com
DTSTAMP:20190208T053044Z
DTSTART:20190209T023000Z
DTEND:20190209T053000Z
SUMMARY:PRINTMAKING WORKSHOPS
END:VEVENT
END:VCALENDAR
