BEGIN:VCALENDAR
VERSION:2.0
PRODID:-//Squarespace Inc/Squarespace 6//v6//EN
BEGIN:VEVENT
UID:5c5d050cf9619a7d828db255@squarespace.com
DTSTAMP:20190211T040239Z
DTSTART:20190216T000000Z
DTEND:20190216T013000Z
SUMMARY:&nbsp\;Animal Mash Ups
END:VEVENT
END:VCALENDAR
