BEGIN:VCALENDAR
VERSION:2.0
PRODID:-//Squarespace Inc/Squarespace 6//v6//EN
BEGIN:VEVENT
UID:5dce07b9e7be420eef4062f1@squarespace.com
DTSTAMP:20191120T044725Z
DTSTART:20191208T003000Z
DTEND:20191208T020000Z
SUMMARY:Camera Obscura Workshop 
END:VEVENT
END:VCALENDAR
