BEGIN:VCALENDAR
VERSION:2.0
PRODID:-//Squarespace Inc/Squarespace 6//v6//EN
BEGIN:VEVENT
UID:5d37fc88435633000121f28c@squarespace.com
DTSTAMP:20191001T074313Z
DTSTART:20191020T020000Z
DTEND:20191020T043000Z
SUMMARY:Painted Stories Workshop
END:VEVENT
END:VCALENDAR
