BEGIN:VCALENDAR
VERSION:2.0
PRODID:-//Squarespace Inc/Squarespace 6//v6//EN
BEGIN:VEVENT
UID:5bcfbba771c10b8d31a81749@squarespace.com
DTSTAMP:20181024T021359Z
DTSTART:20181208T023000Z
DTEND:20181208T043000Z
SUMMARY:Printmaking workshop
END:VEVENT
END:VCALENDAR
