BEGIN:VCALENDAR
VERSION:2.0
PRODID:-//Squarespace Inc/Squarespace 6//v6//EN
BEGIN:VEVENT
UID:5bc95fa171c10be3da1214c4@squarespace.com
DTSTAMP:20190328T011030Z
DTSTART:20181207T233000Z
DTEND:20181208T013000Z
SUMMARY:Beeswax wrap workshop
END:VEVENT
END:VCALENDAR
