BEGIN:VCALENDAR
VERSION:2.0
PRODID:-//Squarespace Inc/Squarespace 6//v6//EN
BEGIN:VEVENT
UID:5e49ec798639f00805325892@squarespace.com
DTSTAMP:20200219T014739Z
DTSTART:20200429T003000Z
DTEND:20200614T073000Z
SUMMARY:Andrew Stattmann
END:VEVENT
END:VCALENDAR
