BEGIN:VCALENDAR
VERSION:2.0
PRODID:-//Squarespace Inc/Squarespace 6//v6//EN
BEGIN:VEVENT
UID:5e43a2a1e24d98154659d6d6@squarespace.com
DTSTAMP:20200212T070933Z
DTSTART:20200428T003000Z
DTEND:20200510T073000Z
SUMMARY:Welcome home
END:VEVENT
END:VCALENDAR
