BEGIN:VCALENDAR
VERSION:2.0
PRODID:-//Squarespace Inc/Squarespace 6//v6//EN
BEGIN:VEVENT
UID:5e4f5f044b0aa5569bd90d3a@squarespace.com
DTSTAMP:20200224T003314Z
DTSTART:20200418T003000Z
DTEND:20200426T073000Z
SUMMARY:Tjina Nurna-ka\, Pmarra Nurna-kanha\, Itla Itla Nurna-kanha: Our Fa
 mily\, Our Country\, Our Legacy 
END:VEVENT
END:VCALENDAR
