BEGIN:VCALENDAR
VERSION:2.0
PRODID:-//Squarespace Inc/Squarespace 6//v6//EN
BEGIN:VEVENT
UID:5e1c1ac63ff3900c13a35c5b@squarespace.com
DTSTAMP:20200221T031554Z
DTSTART:20200320T233000Z
DTEND:20200426T073000Z
SUMMARY:Anna Glynn: Promiscuous Provenance
END:VEVENT
END:VCALENDAR
